BEGIN:VCALENDAR
VERSION:2.0
PRODID:-//Hundesportgruppe Nürnberg Land e.V. - ECPv6.15.20//NONSGML v1.0//EN
CALSCALE:GREGORIAN
METHOD:PUBLISH
X-WR-CALNAME:Hundesportgruppe Nürnberg Land e.V.
X-ORIGINAL-URL:https://hsg-nuernberg-land.online
X-WR-CALDESC:Veranstaltungen für Hundesportgruppe Nürnberg Land e.V.
REFRESH-INTERVAL;VALUE=DURATION:PT1H
X-Robots-Tag:noindex
X-PUBLISHED-TTL:PT1H
BEGIN:VTIMEZONE
TZID:UTC
BEGIN:STANDARD
TZOFFSETFROM:+0000
TZOFFSETTO:+0000
TZNAME:UTC
DTSTART:20240101T000000
END:STANDARD
END:VTIMEZONE
BEGIN:VEVENT
DTSTART;TZID=UTC:20250405T100000
DTEND;TZID=UTC:20250405T170000
DTSTAMP:20260424T154528
CREATED:20250303T085931Z
LAST-MODIFIED:20250305T053831Z
UID:1016-1743847200-1743872400@hsg-nuernberg-land.online
SUMMARY:Mantrailing Seminar mit Laura Baierlein
DESCRIPTION:* NUR NOCH WARTELISTE*\n\nFür Alle\, die sich für Mantrailing interessieren. Das Seminar richtet sich vom blutigen Anfänger bis zum weit fortgeschrittenen Team.Jedes Team wird da abgeholt\, wo es gerade steht.\n\nMaximale Teilnehmerzahl: 6 Hund-Mensch-Teams\n\nGebühr: 60 EUR (Extern)\, 50 EUR (Vereinsmitglieder)\n\nAnmeldung an:\nSuchen-HSG-Nuernberg-Land@gmx.de
URL:https://hsg-nuernberg-land.online/event/maintrailing-seminar
CATEGORIES:Seminar
END:VEVENT
END:VCALENDAR