BEGIN:VCALENDAR
VERSION:2.0
PRODID:-//Hundesportgruppe Nürnberg Land e.V. - ECPv6.15.20//NONSGML v1.0//EN
CALSCALE:GREGORIAN
METHOD:PUBLISH
X-ORIGINAL-URL:https://hsg-nuernberg-land.online
X-WR-CALDESC:Veranstaltungen für Hundesportgruppe Nürnberg Land e.V.
REFRESH-INTERVAL;VALUE=DURATION:PT1H
X-Robots-Tag:noindex
X-PUBLISHED-TTL:PT1H
BEGIN:VTIMEZONE
TZID:UTC
BEGIN:STANDARD
TZOFFSETFROM:+0000
TZOFFSETTO:+0000
TZNAME:UTC
DTSTART:20240101T000000
END:STANDARD
END:VTIMEZONE
BEGIN:VEVENT
DTSTART;VALUE=DATE:20250510
DTEND;VALUE=DATE:20250511
DTSTAMP:20260424T141408
CREATED:20230109T075801Z
LAST-MODIFIED:20250303T090314Z
UID:773-1746835200-1746921599@hsg-nuernberg-land.online
SUMMARY:Begleithundeprüfung
DESCRIPTION:Richterin: Jutta Lörner \nWegen der Begleithundeprüfung entfällt das Training in der Woche vorher komplett aus.
URL:https://hsg-nuernberg-land.online/event/begleithundepruefung-am-20-05-2023
CATEGORIES:Prüfung
END:VEVENT
END:VCALENDAR