BEGIN:VCALENDAR
VERSION:2.0
PRODID:-//Hundesportgruppe Nürnberg Land e.V. - ECPv6.15.20//NONSGML v1.0//EN
CALSCALE:GREGORIAN
METHOD:PUBLISH
X-WR-CALNAME:Hundesportgruppe Nürnberg Land e.V.
X-ORIGINAL-URL:https://hsg-nuernberg-land.online
X-WR-CALDESC:Veranstaltungen für Hundesportgruppe Nürnberg Land e.V.
REFRESH-INTERVAL;VALUE=DURATION:PT1H
X-Robots-Tag:noindex
X-PUBLISHED-TTL:PT1H
BEGIN:VTIMEZONE
TZID:UTC
BEGIN:STANDARD
TZOFFSETFROM:+0000
TZOFFSETTO:+0000
TZNAME:UTC
DTSTART:20240101T000000
END:STANDARD
END:VTIMEZONE
BEGIN:VEVENT
DTSTART;TZID=UTC:20250513T183000
DTEND;TZID=UTC:20250513T200000
DTSTAMP:20260424T143514
CREATED:20250320T072118Z
LAST-MODIFIED:20250320T072118Z
UID:1222-1747161000-1747166400@hsg-nuernberg-land.online
SUMMARY:Jahreshauptversammlung
DESCRIPTION:
URL:https://hsg-nuernberg-land.online/event/jahreshauptversammlung
END:VEVENT
END:VCALENDAR