BEGIN:VCALENDAR
VERSION:2.0
PRODID:-//Hundesportgruppe Nürnberg Land e.V. - ECPv6.15.20//NONSGML v1.0//EN
CALSCALE:GREGORIAN
METHOD:PUBLISH
X-WR-CALNAME:Hundesportgruppe Nürnberg Land e.V.
X-ORIGINAL-URL:https://hsg-nuernberg-land.online
X-WR-CALDESC:Veranstaltungen für Hundesportgruppe Nürnberg Land e.V.
REFRESH-INTERVAL;VALUE=DURATION:PT1H
X-Robots-Tag:noindex
X-PUBLISHED-TTL:PT1H
BEGIN:VTIMEZONE
TZID:UTC
BEGIN:STANDARD
TZOFFSETFROM:+0000
TZOFFSETTO:+0000
TZNAME:UTC
DTSTART:20250101T000000
END:STANDARD
END:VTIMEZONE
BEGIN:VEVENT
DTSTART;VALUE=DATE:20260123
DTEND;VALUE=DATE:20260124
DTSTAMP:20260422T112114
CREATED:20251119T181510Z
LAST-MODIFIED:20251119T181540Z
UID:1390-1769126400-1769212799@hsg-nuernberg-land.online
SUMMARY:Neuer Welpenkurs\, immer freitags um 15 Uhr
DESCRIPTION:mit Gerti\, \nFragen\, weitere Infos und Anmeldung unter: +49 176 77474431 (gerne auch per WhatsApp)
URL:https://hsg-nuernberg-land.online/event/neuer-welpenkurs
END:VEVENT
BEGIN:VEVENT
DTSTART;VALUE=DATE:20260123
DTEND;VALUE=DATE:20260124
DTSTAMP:20260422T112114
CREATED:20251203T120117Z
LAST-MODIFIED:20251212T071625Z
UID:1467-1769126400-1769212799@hsg-nuernberg-land.online
SUMMARY:Neue Junghunde-/ Basisgruppe\, immer freitags ab 17 Uhr
DESCRIPTION:weitere Informationen und Anmeldung unter: HSG-Nuernberg-Land@gmx.de
URL:https://hsg-nuernberg-land.online/event/neue-junghunde-basisgruppe-immer-freitags-ab-17-uhr
CATEGORIES:Training
END:VEVENT
END:VCALENDAR