BEGIN:VCALENDAR
VERSION:2.0
PRODID:-//Hundesportgruppe Nürnberg Land e.V. - ECPv6.15.20//NONSGML v1.0//EN
CALSCALE:GREGORIAN
METHOD:PUBLISH
X-WR-CALNAME:Hundesportgruppe Nürnberg Land e.V.
X-ORIGINAL-URL:https://hsg-nuernberg-land.online
X-WR-CALDESC:Veranstaltungen für Hundesportgruppe Nürnberg Land e.V.
REFRESH-INTERVAL;VALUE=DURATION:PT1H
X-Robots-Tag:noindex
X-PUBLISHED-TTL:PT1H
BEGIN:VTIMEZONE
TZID:UTC
BEGIN:STANDARD
TZOFFSETFROM:+0000
TZOFFSETTO:+0000
TZNAME:UTC
DTSTART:20250101T000000
END:STANDARD
END:VTIMEZONE
BEGIN:VEVENT
DTSTART;TZID=UTC:20260329T100000
DTEND;TZID=UTC:20260329T140000
DTSTAMP:20260420T131701
CREATED:20260208T162641Z
LAST-MODIFIED:20260208T162641Z
UID:1546-1774778400-1774792800@hsg-nuernberg-land.online
SUMMARY:Gemeinsame Wanderung für Mitglieder und 10er Kartenbesitzer
DESCRIPTION:🐾 Einladung zur gemeinsamen Wanderung 🥾 \nLiebe Mitglieder\, liebe Trainingsteilnehmer\, \ndie HSG Nürnberg Land lädt herzlich zu einer entspannten Rundwanderung am 29. März ein! \nGemeinsam sind wir ca. 2–3 Stunden unterwegs und genießen Natur\, Bewegung und nette Gesellschaft. \n🕙 Beginn: 10:00 Uhr \n🐕 Neben eueren Hundis sind ebenso weitere Familienmitglieder herzlich Willkommen. \n➡️ Hunde sind während der gesamten Wanderung an der Leine zu führen. \n➡️ Hundekontakt an der Leine bitte nur nach vorheriger Absprache\, damit auch sensiblere Hunde entspannt teilnehmen können. \n  \n📍 Der genaue Treffpunkt wird nach der Anmeldung bekannt gegeben. \n💚 Die Teilnahme ist kostenlos\, Anmeldung unter: HSG-Nuernberg-Land@gmx.de \n  \nWir freuen uns auf euch und eure Vierbeiner! 🐶🌿
URL:https://hsg-nuernberg-land.online/event/gemeinsame-wanderung-fuer-mitglieder-und-10er-kartenbesitzer
END:VEVENT
END:VCALENDAR