BEGIN:VCALENDAR
VERSION:2.0
PRODID:-//Hundesportgruppe Nürnberg Land e.V. - ECPv6.15.20//NONSGML v1.0//EN
CALSCALE:GREGORIAN
METHOD:PUBLISH
X-ORIGINAL-URL:https://hsg-nuernberg-land.online
X-WR-CALDESC:Veranstaltungen für Hundesportgruppe Nürnberg Land e.V.
REFRESH-INTERVAL;VALUE=DURATION:PT1H
X-Robots-Tag:noindex
X-PUBLISHED-TTL:PT1H
BEGIN:VTIMEZONE
TZID:UTC
BEGIN:STANDARD
TZOFFSETFROM:+0000
TZOFFSETTO:+0000
TZNAME:UTC
DTSTART:20250101T000000
END:STANDARD
END:VTIMEZONE
BEGIN:VEVENT
DTSTART;TZID=UTC:20260407T160000
DTEND;TZID=UTC:20260407T190000
DTSTAMP:20260420T112631
CREATED:20260208T162947Z
LAST-MODIFIED:20260208T162947Z
UID:1548-1775577600-1775588400@hsg-nuernberg-land.online
SUMMARY:Kreisgruppentraining Rally Obedience
DESCRIPTION:Hier habt ihr die Möglichkeit\, gemeinsam mit anderen Mitgliedern der Kreisgruppe zu trainieren\, euch auszutauschen und wertvolle Erfahrungen zu sammeln. Das Training findet unter realistischen Turnierbedingungen statt.\n\nAnmeldung unter: RallyO-HSG-Nuernberg-Land@gmx.de \n\n 
URL:https://hsg-nuernberg-land.online/event/kreisgruppentraining-rally-obedience
END:VEVENT
END:VCALENDAR