BEGIN:VCALENDAR
VERSION:2.0
PRODID:-//Hundesportgruppe Nürnberg Land e.V. - ECPv6.15.20//NONSGML v1.0//EN
CALSCALE:GREGORIAN
METHOD:PUBLISH
X-ORIGINAL-URL:https://hsg-nuernberg-land.online
X-WR-CALDESC:Veranstaltungen für Hundesportgruppe Nürnberg Land e.V.
REFRESH-INTERVAL;VALUE=DURATION:PT1H
X-Robots-Tag:noindex
X-PUBLISHED-TTL:PT1H
BEGIN:VTIMEZONE
TZID:UTC
BEGIN:STANDARD
TZOFFSETFROM:+0000
TZOFFSETTO:+0000
TZNAME:UTC
DTSTART:20250101T000000
END:STANDARD
END:VTIMEZONE
BEGIN:VEVENT
DTSTART;TZID=UTC:20260725T090000
DTEND;TZID=UTC:20260725T160000
DTSTAMP:20260421T002523
CREATED:20260204T143950Z
LAST-MODIFIED:20260219T073703Z
UID:1540-1784970000-1784995200@hsg-nuernberg-land.online
SUMMARY:Seminar "Rally Obedience Beginner und Klasse 1" mit Caro Welsch
DESCRIPTION:Rally Obedience Seminar Klasse Beginner & 1 \nReferentin: Carolin Welsch \nDatum: So\, 25. Juli 2026 \nUhrzeit: von 09.00 Uhr – ca. 16.00 Uhr \nPreise inkl. Kaffee und Kuchen: \n\nTeilnahme mit Hund 55 EUR (nur noch Warteliste)\nTeilnahme ohne Hund 30 EUR\n\nDas Seminar richtet sich an Läufer der Klasse Beginner und 1. Themen sind u.a. Parcours der Klasse Beginner und 1\, Tipps zum Aufbau der Übungen sowie Fehlervermeidungen Die Referentin Carolin Welsch ist Richterin im BLV\, eine langjährige RO-Sportlerin\, die mit ihrer Hündin Flair erfolgreich auf Meisterschaften startet. \nWeitere Infos und Anmeldung unter: RallyO-HSG-Nuernberg-Land@gmx.de \n 
URL:https://hsg-nuernberg-land.online/event/rally-obedience-seminar-beginner-und-klasse-1-mit-caro-welsch
END:VEVENT
END:VCALENDAR