BEGIN:VCALENDAR
VERSION:2.0
PRODID:-//Hundesportgruppe Nürnberg Land e.V. - ECPv6.15.20//NONSGML v1.0//EN
CALSCALE:GREGORIAN
METHOD:PUBLISH
X-WR-CALNAME:Hundesportgruppe Nürnberg Land e.V.
X-ORIGINAL-URL:https://hsg-nuernberg-land.online
X-WR-CALDESC:Veranstaltungen für Hundesportgruppe Nürnberg Land e.V.
REFRESH-INTERVAL;VALUE=DURATION:PT1H
X-Robots-Tag:noindex
X-PUBLISHED-TTL:PT1H
BEGIN:VTIMEZONE
TZID:UTC
BEGIN:STANDARD
TZOFFSETFROM:+0000
TZOFFSETTO:+0000
TZNAME:UTC
DTSTART:20250101T000000
END:STANDARD
END:VTIMEZONE
BEGIN:VEVENT
DTSTART;VALUE=DATE:20260505
DTEND;VALUE=DATE:20260506
DTSTAMP:20260420T112808
CREATED:20260417T051728Z
LAST-MODIFIED:20260417T051745Z
UID:1567-1777939200-1778025599@hsg-nuernberg-land.online
SUMMARY:Fotoshooting am Hundeplatz
DESCRIPTION:weitere Infos und Anmeldung unter HSG-Nuernberg-Land@gmx.de
URL:https://hsg-nuernberg-land.online/event/fotoshooting-am-hundeplatz
END:VEVENT
BEGIN:VEVENT
DTSTART;VALUE=DATE:20260530
DTEND;VALUE=DATE:20260531
DTSTAMP:20260420T112808
CREATED:20260417T051949Z
LAST-MODIFIED:20260417T052004Z
UID:1569-1780099200-1780185599@hsg-nuernberg-land.online
SUMMARY:PhysioWalk mit Hundephysiotherapeutin  Petra Vischer
DESCRIPTION:weitere Infos folgen. \n  \nAnmeldung unter: HSG-Nuernberg-Land@gmx.de
URL:https://hsg-nuernberg-land.online/event/physiowalk-mit-hundephysiotherapeutin-petra-vischer
END:VEVENT
BEGIN:VEVENT
DTSTART;VALUE=DATE:20260604
DTEND;VALUE=DATE:20260605
DTSTAMP:20260420T112808
CREATED:20260217T200438Z
LAST-MODIFIED:20260413T051218Z
UID:1550-1780531200-1780617599@hsg-nuernberg-land.online
SUMMARY:Seminar "Spürhundsport" mit Katharina Schmitt für Anfänger & Fortgeschrittene
DESCRIPTION:*NUR NOCH WARTELISTE* \nVom Anfänger ohne Vorkenntnisse bis zum erfahrenen Spürhundsportler – wir freuen uns auf einen spannenden Seminartag am Donnerstag\, 4. Juni (Feiertag)\, mit Katharina Schmitt. \nWährend bei den Anfängern unter anderem die theoretische Einführung in den Spürhundesport\, die Konditionierung auf einen Suchgegenstand\, die passive Platzanzeige sowie erste Suchen im Trümmerfeld im Fokus stehen\, geht es für die Fortgeschrittenen SHS’ler nach einer kurzen theoretischen Einheit um den Aufbau und die ersten Schritte in der Flächenarbeit. \nDie Teilnahmegebühr beträgt 70 Euro mit Hund\, die Teilnahme ohne Hund kostet 35 Euro (inkl. Kaffee & Kuchen). Mitglieder profitieren von einer Ermäßigung in Höhe von 5 Euro. \nInfos & Anmeldung unter:\nSHS-HSG-Nuernberg-Land@gmx.de \n  \nDas Seminar wird als Trainerfortbildung im BLV genehmigt.
URL:https://hsg-nuernberg-land.online/event/seminar-spuerhundsport-mit-katharina-schmitt-fuer-anfaenger-fortgeschrittene
END:VEVENT
BEGIN:VEVENT
DTSTART;TZID=UTC:20260606T090000
DTEND;TZID=UTC:20260606T120000
DTSTAMP:20260420T112808
CREATED:20260205T070355Z
LAST-MODIFIED:20260205T070434Z
UID:1543-1780736400-1780747200@hsg-nuernberg-land.online
SUMMARY:Seminar "Balance und Koordination" mit Ute Keidel
DESCRIPTION:„Balance und Koordination“ \nam 06. Juni 2026 \nUhrzeit 09:00 Uhr bis ca. 12:00 Uhr \nReferentin: Ute Keidel \nDas Seminar richtet sich an Mensch-Hund Teams\, die Spaß haben zusammen kleine Pacoure zu bewältigten\, die Balance\, Körpergefühl und Koordination unserer Hunde fördert und stärkt. \nDer Hund muss mindestens 6 Monate alt sein\, weitere Voraussetzungen gibt es nicht. \nBringt bitte für eure Hunde ein Hundegeschirr mit. \nTeilnehmer: max. 5 Mensch-Hund-Teams \nKosten: \n\nMitglied mit Hund 25 EUR\nNichtmitglied mit Hund 30 EUR\ninkl. Kaffee\, Brezen und Kuchen\n\nWeitere Infos und Anmeldung unter: Hoopers-HSG-Nuernberg-Land@gmx.de
URL:https://hsg-nuernberg-land.online/event/seminar-balance-und-koordination
END:VEVENT
BEGIN:VEVENT
DTSTART;VALUE=DATE:20260620
DTEND;VALUE=DATE:20260621
DTSTAMP:20260420T112808
CREATED:20251116T154536Z
LAST-MODIFIED:20260303T074416Z
UID:1379-1781913600-1781999999@hsg-nuernberg-land.online
SUMMARY:Begleithundeprüfung im Frühling
DESCRIPTION:Begleithundprüfung am Sa\, 20. Juni \nAngebotene Disziplinen: SKN; BH-VT mit SKN; BH-VT ohne SKN\, \nRichter: Klaus Goßler \nPrüfungsleiter: Doris Kopec \nInfos und Anmeldung unter: HSG-Nuernberg-Land@gmx.de \n 
URL:https://hsg-nuernberg-land.online/event/begleithundepruefung-im-fruehling
CATEGORIES:Prüfung
END:VEVENT
BEGIN:VEVENT
DTSTART;TZID=UTC:20260621T090000
DTEND;TZID=UTC:20260621T170000
DTSTAMP:20260420T112808
CREATED:20260130T065622Z
LAST-MODIFIED:20260219T073637Z
UID:1529-1782032400-1782061200@hsg-nuernberg-land.online
SUMMARY:Seminar "Rally Obedience Klasse 2/3" mit Manuela Heublein
DESCRIPTION:Rally Obedience Seminar Klasse 2/3 \nReferentin: Manuela Heublein \nDatum: So\, 21. Juni 2026 \nUhrzeit: von 09.00 Uhr – ca. 17.00 Uhr \nPreise inkl. Kaffee und Kuchen: \n\nTeilnahme mit Hund 75 EUR (nur noch Warteliste)\nTeilnahme ohne Hund 35 EUR (noch verfügbar)\n\nDas Seminar richtet sich an Läufer der Klasse 2 und 3. Themen sind u.a. Parcours der Klasse 2 und 3\, Tipps zum Aufbau der Übungen sowie Fehlervermeidungen Die Referentin Manuela Heublein ist Richterin im VDH und FCI\, eine langjährige RO-Sportlerin\, die mit ihrer Hündin Mila erfolgreich auf Meisterschaften startet. \nWeitere Infos und Anmeldung unter: RallyO-HSG-Nuernberg-Land@gmx.de \nDas Seminar ist als Trainerfortbildung beim BLV anerkannt (BLV055/2026)
URL:https://hsg-nuernberg-land.online/event/rally-obedience-seminar-klasse-2-3-mit-manuela-heublein
END:VEVENT
BEGIN:VEVENT
DTSTART;TZID=UTC:20260725T090000
DTEND;TZID=UTC:20260725T160000
DTSTAMP:20260420T112808
CREATED:20260204T143950Z
LAST-MODIFIED:20260219T073703Z
UID:1540-1784970000-1784995200@hsg-nuernberg-land.online
SUMMARY:Seminar "Rally Obedience Beginner und Klasse 1" mit Caro Welsch
DESCRIPTION:Rally Obedience Seminar Klasse Beginner & 1 \nReferentin: Carolin Welsch \nDatum: So\, 25. Juli 2026 \nUhrzeit: von 09.00 Uhr – ca. 16.00 Uhr \nPreise inkl. Kaffee und Kuchen: \n\nTeilnahme mit Hund 55 EUR (nur noch Warteliste)\nTeilnahme ohne Hund 30 EUR\n\nDas Seminar richtet sich an Läufer der Klasse Beginner und 1. Themen sind u.a. Parcours der Klasse Beginner und 1\, Tipps zum Aufbau der Übungen sowie Fehlervermeidungen Die Referentin Carolin Welsch ist Richterin im BLV\, eine langjährige RO-Sportlerin\, die mit ihrer Hündin Flair erfolgreich auf Meisterschaften startet. \nWeitere Infos und Anmeldung unter: RallyO-HSG-Nuernberg-Land@gmx.de \n 
URL:https://hsg-nuernberg-land.online/event/rally-obedience-seminar-beginner-und-klasse-1-mit-caro-welsch
END:VEVENT
BEGIN:VEVENT
DTSTART;TZID=UTC:20261017T090000
DTEND;TZID=UTC:20261017T170000
DTSTAMP:20260420T112808
CREATED:20260219T073510Z
LAST-MODIFIED:20260304T194305Z
UID:1552-1792227600-1792256400@hsg-nuernberg-land.online
SUMMARY:Seminar "Rally Obedience FCI" für Anfänger & Fortgeschrittene mit Alexandra Meyer
DESCRIPTION:Rally Obedience Seminar Klasse FCI\n\n\n\nReferentin: Alexandra Meyer \nDatum: Sa\, 17. Oktober 2026 \nUhrzeit: von 09.00 Uhr – ca. 17.00 Uhr \nPreise inkl. Kaffee und Kuchen: \n\nTeilnahme mit Hund 55 EUR\nTeilnahme ohne Hund 30 EUR\n\nDas Seminar richtet sich an Läufer der Klassen 2 und 3\, die in die FCI-Klasse einsteigen möchten\, sowie an erfahrene FCI-Starter\, die ihr Können weiter ausbauen und neue Parcours meistern wollen. \nThemen sind u.a. Parcours der Klasse FCI\, Erläuterung der wichtigsten Regeln und Unterschiede zum nationalen Regelwerk\,  Tipps zum Aufbau der Übungen sowie Fehlervermeidungen. Die Referentin Alexandra Meyer ist Richterin im VDH und FCI\, eine langjährige RO-Sportlerin\, die mit ihren  Hunden erfolgreich auf Turnieren startet. \nWeitere Infos und Anmeldung unter: RallyO-HSG-Nuernberg-Land@gmx.de \n\nDas Seminar ist als Trainerfortbildung beim BLV anerkannt (BLV080/2026)
URL:https://hsg-nuernberg-land.online/event/seminar-rally-obedience-fci-fuer-anfaenger-fortgeschrittene-mit-alexandra-meyer
END:VEVENT
BEGIN:VEVENT
DTSTART;VALUE=DATE:20261114
DTEND;VALUE=DATE:20261115
DTSTAMP:20260420T112808
CREATED:20251118T114017Z
LAST-MODIFIED:20251118T114017Z
UID:1383-1794614400-1794700799@hsg-nuernberg-land.online
SUMMARY:Rally Obedience Hallenturnier
DESCRIPTION:Terminschutz vorausgesetzt
URL:https://hsg-nuernberg-land.online/event/rally-obedience-hallenturnier
CATEGORIES:Turnier
END:VEVENT
END:VCALENDAR