BEGIN:VCALENDAR
VERSION:2.0
PRODID:-//Hundesportgruppe Nürnberg Land e.V. - ECPv6.15.20//NONSGML v1.0//EN
CALSCALE:GREGORIAN
METHOD:PUBLISH
X-ORIGINAL-URL:https://hsg-nuernberg-land.online
X-WR-CALDESC:Veranstaltungen für Hundesportgruppe Nürnberg Land e.V.
REFRESH-INTERVAL;VALUE=DURATION:PT1H
X-Robots-Tag:noindex
X-PUBLISHED-TTL:PT1H
BEGIN:VTIMEZONE
TZID:UTC
BEGIN:STANDARD
TZOFFSETFROM:+0000
TZOFFSETTO:+0000
TZNAME:UTC
DTSTART:20240101T000000
END:STANDARD
END:VTIMEZONE
BEGIN:VEVENT
DTSTART;VALUE=DATE:20251101
DTEND;VALUE=DATE:20251102
DTSTAMP:20260422T124452
CREATED:20240705T081646Z
LAST-MODIFIED:20250812T190151Z
UID:915-1761955200-1762041599@hsg-nuernberg-land.online
SUMMARY:Rally-Obedience Turnier (voll\, nur noch Warteliste)
DESCRIPTION:Reithallenturnier am 01.11.2025Richter: Sabine BöhmMeldung ab 01.08.2025 10.00 Uhr über O.M.A.
URL:https://hsg-nuernberg-land.online/event/rally-obedience-turnier
CATEGORIES:Turnier
END:VEVENT
END:VCALENDAR